BEGIN:VCALENDAR
VERSION:2.0
PRODID:-//Evolutiontravel Community - ECPv6.15.17.1//NONSGML v1.0//EN
CALSCALE:GREGORIAN
METHOD:PUBLISH
X-WR-CALNAME:Evolutiontravel Community
X-ORIGINAL-URL:https://test.evolutiontravel.community/ita
X-WR-CALDESC:Eventi per Evolutiontravel Community
REFRESH-INTERVAL;VALUE=DURATION:PT1H
X-Robots-Tag:noindex
X-PUBLISHED-TTL:PT1H
BEGIN:VTIMEZONE
TZID:Europe/Rome
BEGIN:DAYLIGHT
TZOFFSETFROM:+0100
TZOFFSETTO:+0200
TZNAME:CEST
DTSTART:20250330T010000
END:DAYLIGHT
BEGIN:STANDARD
TZOFFSETFROM:+0200
TZOFFSETTO:+0100
TZNAME:CET
DTSTART:20251026T010000
END:STANDARD
BEGIN:DAYLIGHT
TZOFFSETFROM:+0100
TZOFFSETTO:+0200
TZNAME:CEST
DTSTART:20260329T010000
END:DAYLIGHT
BEGIN:STANDARD
TZOFFSETFROM:+0200
TZOFFSETTO:+0100
TZNAME:CET
DTSTART:20261025T010000
END:STANDARD
BEGIN:DAYLIGHT
TZOFFSETFROM:+0100
TZOFFSETTO:+0200
TZNAME:CEST
DTSTART:20270328T010000
END:DAYLIGHT
BEGIN:STANDARD
TZOFFSETFROM:+0200
TZOFFSETTO:+0100
TZNAME:CET
DTSTART:20271031T010000
END:STANDARD
END:VTIMEZONE
BEGIN:VEVENT
DTSTART;TZID=Europe/Rome:20260421T110000
DTEND;TZID=Europe/Rome:20260421T120000
DTSTAMP:20260420T184215
CREATED:20260416T133206Z
LAST-MODIFIED:20260416T144256Z
UID:10002013-1776769200-1776772800@test.evolutiontravel.community
SUMMARY:Webinar il nuovo prodotto Stati Uniti sul CRS ETWay con i PTO Sonia Russo\, Mario Lipari\, Mara Perego\, Barbara Zoppitelli e Francesca Attanasio
DESCRIPTION:Il nuovo prodotto Stati Uniti sul CRS ETWay: quotazioni immediate e supporto dedicato\n\nRecentemente abbiamo inserito nel CRS ETWay tutta la programmazione Stati Uniti\, superando il sistema esterno che utilizzavi in precedenza.\nDa oggi puoi ottenere una quotazione immediata e procedere con la conferma in modo semplice e veloce\, sempre con il supporto dei PTO Sonia Russo\, Mario Lipari\, Mara Perego\, Barbara Zoppitelli e Francesca Attanasio.\nTi aspettano in questo webinar per approfondire il prodotto Stati Uniti sul CRS ETWay\, dove potrai trovare le migliori quotazioni per i tuoi clienti su voli\, hotel e servizi.\nPrepara tutte le tue domande e collegati all’appuntamento: non mancare! \n\n\n\nIMPORTANTE:\n– Per salvare automaticamente il webinar nel tuo calendario personale\, clicca su “Salva nel tuo calendario” e seleziona il servizio che preferisci.\n– Per iscriverti al corso\, clicca sul link di iscrizione Zoom indicato nel corso. Dopo aver inserito nome\, cognome e MAIL AZIENDALE\, riceverai una mail di conferma solo se il webinar verrà confermato. Non sono accettate iscrizioni con mail privata.  \nIl sistema non accetta indirizzi diversi da quello con cui hai creato il tuo account Zoom. Controlla bene la mail inserita e\, se non è quella aziendale\, modificala subito per poter accedere alla formazione.\n– Il webinar sarà confermato solo al raggiungimento di almeno 8 iscritti. In caso contrario\, il corso sarà annullato e riceverai comunicazione direttamente da Zoom.\n– Il link di accesso sarà personale e inviato da Zoom nella mail aziendale il giorno prima del webinar\, una volta approvata l’iscrizione.\n\nNOTA INFORMATIVA:\nIn base alle nuove linee guida di sicurezza della piattaforma Zoom\, solo gli utenti autenticati potranno accedere ai corsi (riunioni Zoom).\nPer essere autenticato\, è sufficiente registrarsi gratuitamente su Zoom con data di nascita\, MAIL AZIENDALE e password. Bastano due minuti!\nTi consigliamo di creare il tuo account Zoom il prima possibile per poter continuare a partecipare alla formazione aziendale. \nBuona formazione!
URL:https://test.evolutiontravel.community/ita/event/webinar-il-nuovo-prodotto-stati-uniti-sul-crs-etway-con-i-pto-sonia-russo-mario-lipari-mara-perego-barbara-zoppitelli-e-francesca-attanasio/
CATEGORIES:Webinar
ATTACH;FMTTYPE=image/jpeg:https://test.evolutiontravel.community/ita/wp-content/uploads/2026/04/Template-Evento-CRS-ETway-Stati-Uniti-Sonia-Russo-Francesca-Attanasio-Barbara-Zoppitelli-Mara-Perego-Mario-Lipari.jpg
END:VEVENT
BEGIN:VEVENT
DTSTART;TZID=Europe/Rome:20260421T160000
DTEND;TZID=Europe/Rome:20260421T170000
DTSTAMP:20260420T184215
CREATED:20260416T134319Z
LAST-MODIFIED:20260416T134928Z
UID:10002014-1776787200-1776790800@test.evolutiontravel.community
SUMMARY:Webinar Spagna senza limiti con la PTO/PRP Stefania Marson
DESCRIPTION:Spagna senza limiti: mare\, città e natura nel paese più inclusivo d’Europa (penisola e arcipelaghi)  \n\nCome consulente di viaggio\, sai quanto sia importante creare esperienze indimenticabili. Ma quando un cliente ha esigenze specifiche di mobilità\, può nascere qualche incertezza.\nÈ il momento di cambiare prospettiva: la Spagna è tra le destinazioni leader nel turismo accessibile.\nIn questo webinar\, condotto dalla PTO/PRP Stefania Marson\, scoprirai come proporre viaggi inclusivi in tutta la Spagna\, dalle grandi città alle isole. Ti guideremo tra destinazioni accessibili\, esperienze uniche e strumenti pratici per organizzare al meglio ogni proposta. Un’opportunità concreta per distinguerti\, ampliare la tua offerta e rispondere alle esigenze di un mercato in forte crescita.\nPrepara le tue domande e non mancare!\n\n\n\n\n\nIMPORTANTE:\n– Per salvare automaticamente il webinar nel tuo calendario personale\, clicca su “Salva nel tuo calendario” e seleziona il servizio che preferisci.\n– Per iscriverti al corso\, clicca sul link di iscrizione Zoom indicato nel corso. Dopo aver inserito nome\, cognome e MAIL AZIENDALE\, riceverai una mail di conferma solo se il webinar verrà confermato. Non sono accettate iscrizioni con mail privata.  \nIl sistema non accetta indirizzi diversi da quello con cui hai creato il tuo account Zoom. Controlla bene la mail inserita e\, se non è quella aziendale\, modificala subito per poter accedere alla formazione.\n– Il webinar sarà confermato solo al raggiungimento di almeno 8 iscritti. In caso contrario\, il corso sarà annullato e riceverai comunicazione direttamente da Zoom.\n– Il link di accesso sarà personale e inviato da Zoom nella mail aziendale il giorno prima del webinar\, una volta approvata l’iscrizione.\n\nNOTA INFORMATIVA:\nIn base alle nuove linee guida di sicurezza della piattaforma Zoom\, solo gli utenti autenticati potranno accedere ai corsi (riunioni Zoom).\nPer essere autenticato\, è sufficiente registrarsi gratuitamente su Zoom con data di nascita\, MAIL AZIENDALE e password. Bastano due minuti!Ti consigliamo di creare il tuo account Zoom il prima possibile per poter continuare a partecipare alla formazione aziendale.Buona formazione!
URL:https://test.evolutiontravel.community/ita/event/webinar-spagna-senza-limiti-con-la-pto-prp-stefania-marson/
CATEGORIES:Webinar
ATTACH;FMTTYPE=image/png:https://test.evolutiontravel.community/ita/wp-content/uploads/2025/02/TEMPLATE-Eventi-Senza-barriere-Stefania-Marson.png
END:VEVENT
BEGIN:VEVENT
DTSTART;TZID=Europe/Rome:20260422T160000
DTEND;TZID=Europe/Rome:20260422T170000
DTSTAMP:20260420T184215
CREATED:20260416T135802Z
LAST-MODIFIED:20260416T162823Z
UID:10002015-1776873600-1776877200@test.evolutiontravel.community
SUMMARY:Webinar Mauritius Active con Giovanni Giacobbe\, consulente smart di Evolution Travel e titolare di Acquaforma
DESCRIPTION:Mauritius Active: il primo camp di nuoto in acque libere \nPartecipa a questo webinar con Giovanni Giacobbe\, consulente smart di Evolution Travel e titolare di Acquaforma\, e scopri il primo viaggio sportivo di gruppo: un esclusivo camp di nuoto in acque libere a Mauritius.\nIl progetto nasce in collaborazione con la PRG/PTO/PRP Tiziana Pedron e il PTO/PRP Paolo Rigacci\, per offrirti un’esperienza completa e altamente specializzata.\nUn viaggio active che unisce allenamento e scoperta: sessioni giornaliere di nuoto guidato in baie dalle acque cristalline\, training specifico open water e coaching personalizzato.\nL’esperienza è aperta anche ad accompagnatori e non nuotatori\, per vivere insieme la magia di Mauritius. \n\n\n\n\nIMPORTANTE:\n– Per salvare automaticamente il webinar nel tuo calendario personale\, clicca su “Salva nel tuo calendario” e seleziona il servizio che preferisci.\n– Per iscriverti al corso\, clicca sul link di iscrizione Zoom indicato nel corso. Dopo aver inserito nome\, cognome e MAIL AZIENDALE\, riceverai una mail di conferma solo se il webinar verrà confermato. Non sono accettate iscrizioni con mail privata.  \nIl sistema non accetta indirizzi diversi da quello con cui hai creato il tuo account Zoom. Controlla bene la mail inserita e\, se non è quella aziendale\, modificala subito per poter accedere alla formazione.\n– Il webinar sarà confermato solo al raggiungimento di almeno 8 iscritti. In caso contrario\, il corso sarà annullato e riceverai comunicazione direttamente da Zoom.\n– Il link di accesso sarà personale e inviato da Zoom nella mail aziendale il giorno prima del webinar\, una volta approvata l’iscrizione.\n\nNOTA INFORMATIVA:\nIn base alle nuove linee guida di sicurezza della piattaforma Zoom\, solo gli utenti autenticati potranno accedere ai corsi (riunioni Zoom).\nPer essere autenticato\, è sufficiente registrarsi gratuitamente su Zoom con data di nascita\, MAIL AZIENDALE e password. Bastano due minuti!Ti consigliamo di creare il tuo account Zoom il prima possibile per poter continuare a partecipare alla formazione aziendale.Buona formazione!
URL:https://test.evolutiontravel.community/ita/event/webinar-mauritius-active-con-giovanni-giacobbe-consulente-smart-di-evolution-travel-e-titolare-di-acquaforma/
CATEGORIES:Webinar
ATTACH;FMTTYPE=image/jpeg:https://test.evolutiontravel.community/ita/wp-content/uploads/2026/04/TEMPLATE-EVENT-Viaggio-sportivo-di-gruppo-Giovanni-Giacobbe-1.jpg
END:VEVENT
BEGIN:VEVENT
DTSTART;TZID=Europe/Rome:20260422T180000
DTEND;TZID=Europe/Rome:20260422T190000
DTSTAMP:20260420T184215
CREATED:20260416T142109Z
LAST-MODIFIED:20260416T142136Z
UID:10002016-1776880800-1776884400@test.evolutiontravel.community
SUMMARY:Webinar Fam Trip Berlino Experience con il PRG/PTO Fabio Colombi e la PRG/PRP Alessandra My
DESCRIPTION:Fam Trip Berlino Experience: guida pratica tra storia\, logistica e nuovi itinerari\n\nDalle radici della DDR all’intensità del campo di concentramento di Sachsenhausen\, fino all’eleganza di Potsdam: Berlino non si visita\, si vive.\nIl PRG/PTO Fabio Colombi e la PRG/PRP Alessandra My ti accompagneranno nel racconto del viaggio formativo appena vissuto nel cuore della Germania\, condividendo esperienze\, spunti e consigli pratici. Scopri come trasformare un viaggio a Berlino in un’esperienza davvero immersiva per i tuoi clienti.\nDurante il webinar analizzeremo i molteplici volti della città: i contrasti della DDR\, il forte impatto emotivo di Sachsenhausen e il fascino prussiano di Potsdam. Ti forniremo strumenti concreti e chiavi narrative per raccontare una Berlino autentica\, capace di unire grandi icone storiche e vita quotidiana nei quartieri meno conosciuti.\nUn appuntamento imperdibile per chi desidera proporre Berlino con una marcia in più\, combinando approfondimento storico e scoperta degli aspetti più autentici della città. \n\n\n\n\n\nIMPORTANTE:\n– Per salvare automaticamente il webinar nel tuo calendario personale\, clicca su “Salva nel tuo calendario” e seleziona il servizio che preferisci.\n– Per iscriverti al corso\, clicca sul link di iscrizione Zoom indicato nel corso. Dopo aver inserito nome\, cognome e MAIL AZIENDALE\, riceverai una mail di conferma solo se il webinar verrà confermato. Non sono accettate iscrizioni con mail privata.  \nIl sistema non accetta indirizzi diversi da quello con cui hai creato il tuo account Zoom. Controlla bene la mail inserita e\, se non è quella aziendale\, modificala subito per poter accedere alla formazione.\n– Il webinar sarà confermato solo al raggiungimento di almeno 8 iscritti. In caso contrario\, il corso sarà annullato e riceverai comunicazione direttamente da Zoom.\n– Il link di accesso sarà personale e inviato da Zoom nella mail aziendale il giorno prima del webinar\, una volta approvata l’iscrizione.\n\nNOTA INFORMATIVA:\nIn base alle nuove linee guida di sicurezza della piattaforma Zoom\, solo gli utenti autenticati potranno accedere ai corsi (riunioni Zoom).\nPer essere autenticato\, è sufficiente registrarsi gratuitamente su Zoom con data di nascita\, MAIL AZIENDALE e password. Bastano due minuti!Ti consigliamo di creare il tuo account Zoom il prima possibile per poter continuare a partecipare alla formazione aziendale. \nBuona formazione!
URL:https://test.evolutiontravel.community/ita/event/webinar-fam-trip-berlino-experience-con-il-prg-pto-fabio-colombi-e-la-prg-prp-alessandra-my/
CATEGORIES:Webinar
ATTACH;FMTTYPE=image/jpeg:https://test.evolutiontravel.community/ita/wp-content/uploads/2026/04/Template-evento-Berlino-Alessandra-My-e-Fabio-Colombi.jpg
ORGANIZER;CN="Fabio Colombi":MAILTO:fabio.colombi@evolutiontravel.email
END:VEVENT
BEGIN:VEVENT
DTSTART;TZID=Europe/Rome:20260423T140000
DTEND;TZID=Europe/Rome:20260423T150000
DTSTAMP:20260420T184215
CREATED:20260416T143604Z
LAST-MODIFIED:20260416T143706Z
UID:10002017-1776952800-1776956400@test.evolutiontravel.community
SUMMARY:Webinar Vendita con la PTO/PRP Mara Perego
DESCRIPTION:Vendere senza abbassare il prezzo: come trasformare il valore in scelta\n\nUna delle difficoltà più frequenti nel processo di vendita emerge quando il cliente mette in dubbio il valore della proposta: “Se la differenza è minima mi affido… altrimenti faccio da solo.”\nÈ proprio in quel momento che molti consulenti iniziano a vacillare: entrano in modalità difensiva\, si giustificano\, abbassano il prezzo… e\, senza accorgersene\, finiscono per svalutare il proprio lavoro. Ma il vero problema non è il prezzo: è che il cliente non ha ancora compreso pienamente ciò che sta acquistando.\nIn questo webinar con la PTO/PRP Mara Perego scoprirai come gestire queste situazioni senza scendere a compromessi\, come guidare il cliente verso una scelta consapevole e come costruire proposte personalizzate capaci di trasmettere fiducia\, valore e sicurezza. \nPerché non è il prezzo a fare la differenza\, ma il modo in cui fai percepire ciò che offri.\n\n\n\n\n\nIMPORTANTE:\n– Per salvare automaticamente il webinar nel tuo calendario personale\, clicca su “Salva nel tuo calendario” e seleziona il servizio che preferisci.\n– Per iscriverti al corso\, clicca sul link di iscrizione Zoom indicato nel corso. Dopo aver inserito nome\, cognome e MAIL AZIENDALE\, riceverai una mail di conferma solo se il webinar verrà confermato. Non sono accettate iscrizioni con mail privata.  \nIl sistema non accetta indirizzi diversi da quello con cui hai creato il tuo account Zoom. Controlla bene la mail inserita e\, se non è quella aziendale\, modificala subito per poter accedere alla formazione.\n– Il webinar sarà confermato solo al raggiungimento di almeno 8 iscritti. In caso contrario\, il corso sarà annullato e riceverai comunicazione direttamente da Zoom.\n– Il link di accesso sarà personale e inviato da Zoom nella mail aziendale il giorno prima del webinar\, una volta approvata l’iscrizione.\n\nNOTA INFORMATIVA:\nIn base alle nuove linee guida di sicurezza della piattaforma Zoom\, solo gli utenti autenticati potranno accedere ai corsi (riunioni Zoom).\nPer essere autenticato\, è sufficiente registrarsi gratuitamente su Zoom con data di nascita\, MAIL AZIENDALE e password. Bastano due minuti!Ti consigliamo di creare il tuo account Zoom il prima possibile per poter continuare a partecipare alla formazione aziendale. \nBuona formazione!
URL:https://test.evolutiontravel.community/ita/event/webinar-vendita-con-la-pto-prp-mara-perego/
CATEGORIES:Webinar
ATTACH;FMTTYPE=image/jpeg:https://test.evolutiontravel.community/ita/wp-content/uploads/2026/04/Template-evento-webinar-vendita-Mara-Perego.jpg
END:VEVENT
BEGIN:VEVENT
DTSTART;TZID=Europe/Rome:20260423T180000
DTEND;TZID=Europe/Rome:20260423T190000
DTSTAMP:20260420T184215
CREATED:20260416T144611Z
LAST-MODIFIED:20260416T144800Z
UID:10002018-1776967200-1776970800@test.evolutiontravel.community
SUMMARY:Webinar vendere la Puglia: come intercettare il cliente giusto con la PRG/PTO/PRP Laura Lombardi
DESCRIPTION:Vendere la Puglia: come intercettare il cliente giusto\n\nOggi chi si rivolge a te per organizzare una vacanza mare in Italia? Qual è il target ideale e come intercettarlo online? E soprattutto: come proporre e vendere la Puglia in modo davvero efficace?\nSono domande sempre più frequenti\, spesso accompagnate da dubbi e incertezze legati alla vendita di una destinazione italiana.\nEppure\, vendere la Puglia può riservare grandi opportunità\, sia in termini di redditività che di soddisfazione professionale. Con le giuste strategie è possibile valorizzarla al meglio e costruire proposte in linea con le reali esigenze dei clienti.\nLa PRG/PTO/PRP Laura Lombardi condividerà consigli pratici e strumenti utili per affrontare con sicurezza le richieste del mercato.\n\n\n\n\n\nIMPORTANTE:\n– Per salvare automaticamente il webinar nel tuo calendario personale\, clicca su “Salva nel tuo calendario” e seleziona il servizio che preferisci.\n– Per iscriverti al corso\, clicca sul link di iscrizione Zoom indicato nel corso. Dopo aver inserito nome\, cognome e MAIL AZIENDALE\, riceverai una mail di conferma solo se il webinar verrà confermato. Non sono accettate iscrizioni con mail privata.  \nIl sistema non accetta indirizzi diversi da quello con cui hai creato il tuo account Zoom. Controlla bene la mail inserita e\, se non è quella aziendale\, modificala subito per poter accedere alla formazione.\n– Il webinar sarà confermato solo al raggiungimento di almeno 8 iscritti. In caso contrario\, il corso sarà annullato e riceverai comunicazione direttamente da Zoom.\n– Il link di accesso sarà personale e inviato da Zoom nella mail aziendale il giorno prima del webinar\, una volta approvata l’iscrizione.\n\nNOTA INFORMATIVA:\nIn base alle nuove linee guida di sicurezza della piattaforma Zoom\, solo gli utenti autenticati potranno accedere ai corsi (riunioni Zoom).\nPer essere autenticato\, è sufficiente registrarsi gratuitamente su Zoom con data di nascita\, MAIL AZIENDALE e password. Bastano due minuti!Ti consigliamo di creare il tuo account Zoom il prima possibile per poter continuare a partecipare alla formazione aziendale.Buona formazione!
URL:https://test.evolutiontravel.community/ita/event/webinar-vendere-la-puglia-come-intercettare-il-cliente-giusto-con-la-prg-pto-prp-laura-lombardi-2/
CATEGORIES:Webinar
ATTACH;FMTTYPE=image/jpeg:https://test.evolutiontravel.community/ita/wp-content/uploads/2026/04/TEMPLATE-Evento-Puglia.jpg
END:VEVENT
BEGIN:VEVENT
DTSTART;TZID=Europe/Rome:20260424T110000
DTEND;TZID=Europe/Rome:20260424T120000
DTSTAMP:20260420T184215
CREATED:20260416T145701Z
LAST-MODIFIED:20260416T145852Z
UID:10002019-1777028400-1777032000@test.evolutiontravel.community
SUMMARY:Webinar crociere Gioco Viaggi con Carmine Di Meo\, Responsabile Programmazione Prodotti\, e a Chiara Lagioni\, responsabile di Gioco Viaggi
DESCRIPTION:Crociere Gioco Viaggi: scopri un modo unico di viaggiare\n\nPartecipa a questo webinar dedicato alle crociere di Gioco Viaggi e lasciati guidare alla scoperta di un prodotto ricco di opportunità.\nInsieme a Carmine Di Meo\, Responsabile Programmazione Prodotti\, e a Chiara Lagioni\, responsabile di Gioco Viaggi\, approfondirai caratteristiche\, punti di forza e vantaggi di una proposta pensata per soddisfare diverse tipologie di viaggiatori.\nUn’occasione per conoscere meglio itinerari\, esperienze a bordo e soluzioni di viaggio ideali per i tuoi clienti\, con spunti concreti per ampliare la tua offerta e vendere con maggiore sicurezza.\nPrepara le tue domande e collegati al webinar: non mancare! \n\n\n\nIMPORTANTE:\n– Per salvare automaticamente il webinar nel tuo calendario personale\, clicca su “Salva nel tuo calendario” e seleziona il servizio che preferisci.\n– Per iscriverti al corso\, clicca sul link di iscrizione Zoom indicato nel corso. Dopo aver inserito nome\, cognome e MAIL AZIENDALE\, riceverai una mail di conferma solo se il webinar verrà confermato. Non sono accettate iscrizioni con mail privata.  \nIl sistema non accetta indirizzi diversi da quello con cui hai creato il tuo account Zoom. Controlla bene la mail inserita e\, se non è quella aziendale\, modificala subito per poter accedere alla formazione.\n– Il webinar sarà confermato solo al raggiungimento di almeno 8 iscritti. In caso contrario\, il corso sarà annullato e riceverai comunicazione direttamente da Zoom.\n– Il link di accesso sarà personale e inviato da Zoom nella mail aziendale il giorno prima del webinar\, una volta approvata l’iscrizione.\n\nNOTA INFORMATIVA:\nIn base alle nuove linee guida di sicurezza della piattaforma Zoom\, solo gli utenti autenticati potranno accedere ai corsi (riunioni Zoom).\nPer essere autenticato\, è sufficiente registrarsi gratuitamente su Zoom con data di nascita\, MAIL AZIENDALE e password. Bastano due minuti!\nTi consigliamo di creare il tuo account Zoom il prima possibile per poter continuare a partecipare alla formazione aziendale. \nBuona formazione!
URL:https://test.evolutiontravel.community/ita/event/webinar-crociere-gioco-viaggi-con-carmine-di-meo-responsabile-programmazione-prodotti-e-a-chiara-lagioni-responsabile-di-gioco-viaggi/
CATEGORIES:Webinar
ATTACH;FMTTYPE=image/jpeg:https://test.evolutiontravel.community/ita/wp-content/uploads/2026/04/TEMPLATE-Evento-Carmine-Di-Meo-Gioco-Viaggi.jpg
END:VEVENT
BEGIN:VEVENT
DTSTART;TZID=Europe/Rome:20260424T180000
DTEND;TZID=Europe/Rome:20260424T190000
DTSTAMP:20260420T184215
CREATED:20260416T150524Z
LAST-MODIFIED:20260416T151144Z
UID:10002020-1777053600-1777057200@test.evolutiontravel.community
SUMMARY:Webinar Algeria con il PRL/PTO/PRP Youssef Aattal
DESCRIPTION:Vuoi vendere un viaggio in Algeria? \nL’Algeria\, recentemente si è aperta al turismo\, è un paese che mescola storia\, natura ed un incantevole deserto.\nMalgrado tutte le difficoltà ed inesperienza\, piano piano le cose stanno migliorando operativamente\, ma di base il paese offre tanto\, tra siti archeologici\, natura e deserto.\nTimgad è il più importante sito archeologico del paese\, antica colonia romana\, viene chiamata la “Pompei Africana”.\nIl deserto del Sahara Algerino è quello che ha il più alto chilometraggio di deserto sabbioso in tutta l’Africa\, gli incontri con i Tuareg è una magia da vivere e da provare almeno una volta nella vita.\nScopri questa nuova destinazione insieme al PRL/PTO/PRP Youssef Aattal. \nIMPORTANTE:\n– Per salvare automaticamente il webinar nel tuo calendario personale\, clicca su “Salva nel tuo calendario” e seleziona il servizio che preferisci.\n– Per iscriverti al corso\, clicca sul link di iscrizione Zoom indicato nel corso. Dopo aver inserito nome\, cognome e MAIL AZIENDALE\, riceverai una mail di conferma solo se il webinar verrà confermato. Non sono accettate iscrizioni con mail privata.\nIl sistema non accetta indirizzi diversi da quello con cui hai creato il tuo account Zoom. Controlla bene la mail inserita e\, se non è quella aziendale\, modificala subito per poter accedere alla formazione.\n– Il webinar sarà confermato solo al raggiungimento di almeno 8 iscritti. In caso contrario\, il corso sarà annullato e riceverai comunicazione direttamente da Zoom.\n– Il link di accesso sarà personale e inviato da Zoom nella mail aziendale il giorno prima del webinar\, una volta approvata l’iscrizione. \nNOTA INFORMATIVA:\nIn base alle nuove linee guida di sicurezza della piattaforma Zoom\, solo gli utenti autenticati potranno accedere ai corsi (riunioni Zoom).\nPer essere autenticato\, è sufficiente registrarsi gratuitamente su Zoom con data di nascita\, MAIL AZIENDALE e password. Bastano due minuti! \nTi consigliamo di creare il tuo account Zoom il prima possibile per poter continuare a partecipare alla formazione aziendale. \nBuona formazione!
URL:https://test.evolutiontravel.community/ita/event/webinar-algeria-con-il-prl-pto-prp-youssef-aattal/
CATEGORIES:Webinar
ATTACH;FMTTYPE=image/jpeg:https://test.evolutiontravel.community/ita/wp-content/uploads/2026/04/TEMPLATE-EVENTO-Algeria-Youssef-Aattal.jpg
END:VEVENT
END:VCALENDAR